BEGIN:VCALENDAR
VERSION:2.0
PRODID:-//InvisionCommunity Events 5.0.17//EN
METHOD:PUBLISH
CALSCALE:GREGORIAN
REFRESH-INTERVAL:PT15M
X-PUBLISHED-TTL:PT15M
X-WR-CALNAME:Todos os calendários - Society
NAME:Todos os calendários - Society
BEGIN:VTIMEZONE
TZID:Europe/London
TZURL:https://tzurl.org/zoneinfo/Europe/London
X-LIC-LOCATION:Europe/London
BEGIN:DAYLIGHT
TZOFFSETFROM:+0000
TZOFFSETTO:+0100
TZNAME:BST
DTSTART:20260329T020000Z
RRULE:FREQ=YEARLY;BYMONTH=3;BYDAY=-1SU
END:DAYLIGHT
BEGIN:STANDARD
TZOFFSETFROM:+0100
TZOFFSETTO:+0000
TZNAME:GMT
DTSTART:20261025T020000Z
RRULE:FREQ=YEARLY;BYMONTH=10;BYDAY=-1SU
END:STANDARD
END:VTIMEZONE
BEGIN:VTIMEZONE
TZID:Europe/London
TZURL:https://tzurl.org/zoneinfo/Europe/London
X-LIC-LOCATION:Europe/London
BEGIN:DAYLIGHT
TZOFFSETFROM:+0000
TZOFFSETTO:+0100
TZNAME:BST
DTSTART:20250330T020000Z
RRULE:FREQ=YEARLY;BYMONTH=3;BYDAY=-1SU
END:DAYLIGHT
BEGIN:STANDARD
TZOFFSETFROM:+0100
TZOFFSETTO:+0000
TZNAME:GMT
DTSTART:20251026T020000Z
RRULE:FREQ=YEARLY;BYMONTH=10;BYDAY=-1SU
END:STANDARD
END:VTIMEZONE
BEGIN:VEVENT
SUMMARY:Gamescom Latam
DTSTAMP:20260227T224244Z
SEQUENCE:0
UID:2-1-e916d3c5f5c072f12cae447dc63219ea@society.cx
ORGANIZER;CN="Yami":noreply@society.cx
DESCRIPTION:Gamescom Latam\nDistrito Anhembi
DTSTART:20260429T030000Z
DTEND:20260504T025900Z
END:VEVENT
BEGIN:VEVENT
SUMMARY:Gamescom Latam 2025
DTSTAMP:20250416T201111Z
SEQUENCE:0
UID:1-1-e916d3c5f5c072f12cae447dc63219ea@society.cx
ORGANIZER;CN="Astronis":noreply@society.cx
DESCRIPTION:Prepare-se para uma experiência inesquecível! A Gamescom L
	atam 2025 acontecerá entre os dias 26 e 30 de junho\, na São Paulo Expo\
	, em São Paulo\, reunindo os maiores nomes da indústria dos games\, comu
	nidades apaixonadas\, influenciadores\, desenvolvedores e\, claro\, você!
	Este é o primeiro ano em que a versão LATAM da maior feira de games do m
	undo acontecerá em solo brasileiro\, unificando a tradicional BIG Festiva
	l à consagrada marca Gamescom. É a oportunidade perfeita para:Testar jog
	os inéditos e lançamentos\;Conhecer criadores de conteúdo e desenvolved
	ores\;Participar de painéis\, meet &amp\; greets\, e muito mais\;Ganhar b
	rindes incríveis e participar de ativações exclusivas!A comunidade Soci
	ety estará presente e conectada com você em todos os momentos da feira! 
	Se você quer aproveitar ao máximo tudo que a Gamescom Latam pode oferece
	r\, confira os canais especiais que preparamos:🎁 Junte-se ao nosso grup
	o de Caça Brindes!Nós da Society estaremos mapeando todos os brindes\, e
	standes\, atrações e convidados para você não perder nada.Clique aqui 
	para se juntar ao nosso grupo no Telegram!📍 Horários do EventoDIA VIP 
	(30/04/2025): 13h30 até às 21hQuinta (01/05/2025): 9h30 até às 21hSext
	a (02/05/2025): 9h30 até às 21hSábado (03/05/2025): 11h até às 21hDom
	ingo (04/05/2025): 11h até às 20h🚇 Dica: Fácil acesso pela linha Jab
	aquara do metrô com traslado gratuito para o evento.
DTSTART:20250430T163000Z
DTEND:20250504T230000Z
ATTENDEE;CN="Astronis";CUTYPE=INDIVIDUAL;PARTSTAT=ACCEPTED:n
	oreply@society.cx
END:VEVENT
END:VCALENDAR
